BEGIN:VCALENDAR
VERSION:2.0
PRODID:-//CHRIS FORSEY - ECPv6.8.3//NONSGML v1.0//EN
CALSCALE:GREGORIAN
METHOD:PUBLISH
X-ORIGINAL-URL:https://chrisforsey.com
X-WR-CALDESC:Events for CHRIS FORSEY
REFRESH-INTERVAL;VALUE=DURATION:PT1H
X-Robots-Tag:noindex
X-PUBLISHED-TTL:PT1H
BEGIN:VTIMEZONE
TZID:UTC
BEGIN:STANDARD
TZOFFSETFROM:+0000
TZOFFSETTO:+0000
TZNAME:UTC
DTSTART:20160101T000000
END:STANDARD
END:VTIMEZONE
BEGIN:VEVENT
DTSTART;TZID=UTC:20180504T080000
DTEND;TZID=UTC:20180507T170000
DTSTAMP:20260420T132838
CREATED:20161031T124207Z
LAST-MODIFIED:20171127T161219Z
UID:463-1525420800-1525712400@chrisforsey.com
SUMMARY:Dorking Group Of Artists Spring Exhibition
DESCRIPTION:
URL:https://chrisforsey.com/event/dorking-group-artists-exhibition/
LOCATION:Betchworth Village Hall\, Dorking\, United Kingdom
CATEGORIES:Exhibitions
END:VEVENT
BEGIN:VEVENT
DTSTART;VALUE=DATE:20180417
DTEND;VALUE=DATE:20180418
DTSTAMP:20260420T132838
CREATED:20171127T162913Z
LAST-MODIFIED:20171127T162913Z
UID:625-1523923200-1524009599@chrisforsey.com
SUMMARY:RI QUESTION TIME
DESCRIPTION:
URL:https://chrisforsey.com/event/ri-question-time/
LOCATION:The Mall Galleries\, The Mall\, London\, SW1\, United Kingdom
CATEGORIES:Exhibitions
END:VEVENT
BEGIN:VEVENT
DTSTART;TZID=UTC:20180416T080000
DTEND;TZID=UTC:20180505T170000
DTSTAMP:20260420T132838
CREATED:20171127T161642Z
LAST-MODIFIED:20171127T162040Z
UID:614-1523865600-1525539600@chrisforsey.com
SUMMARY:Solo Exhibition - Ashdown Gallery
DESCRIPTION:
URL:https://chrisforsey.com/event/solo-exhibition-ashdown-gallery/
LOCATION:Ashdown Gallery\, 8 Newlands Place\, Hartfield Road\,\, Forest Row\, East Sussex\, RH18 5DQ\, United Kingdom
CATEGORIES:Exhibitions
END:VEVENT
BEGIN:VEVENT
DTSTART;TZID=UTC:20180411T110000
DTEND;TZID=UTC:20180411T160000
DTSTAMP:20260420T132838
CREATED:20171127T162740Z
LAST-MODIFIED:20171127T162740Z
UID:623-1523444400-1523462400@chrisforsey.com
SUMMARY:Painting in Mall Galleries
DESCRIPTION:
URL:https://chrisforsey.com/event/painting-mall-galleries/
LOCATION:East Lothian
CATEGORIES:Exhibitions
END:VEVENT
BEGIN:VEVENT
DTSTART;TZID=UTC:20180115T080000
DTEND;TZID=UTC:20180203T170000
DTSTAMP:20260420T132838
CREATED:20171127T162315Z
LAST-MODIFIED:20171127T162315Z
UID:618-1516003200-1517677200@chrisforsey.com
SUMMARY:Cityscapes group show - ASHDOWN GALLERY
DESCRIPTION:
URL:https://chrisforsey.com/event/cityscapes-group-show-ashdown-gallery/
LOCATION:Ashdown Gallery\, 8 Newlands Place\, Hartfield Road\,\, Forest Row\, East Sussex\, RH18 5DQ\, United Kingdom
CATEGORIES:Exhibitions
END:VEVENT
BEGIN:VEVENT
DTSTART;VALUE=DATE:20170805
DTEND;VALUE=DATE:20170806
DTSTAMP:20260420T132838
CREATED:20170407T171515Z
LAST-MODIFIED:20170407T171636Z
UID:533-1501891200-1501977599@chrisforsey.com
SUMMARY:Group EXHIBITION\,  GULLANE ART GALLERY
DESCRIPTION:
URL:https://chrisforsey.com/event/group-exhibition-gullane-art-gallery/
LOCATION:GULLANE ART GALLERY\, 8 Stanley Road (Main Street)\, Gullane\, East Lothian\, EH31 2AD\, United Kingdom
CATEGORIES:Exhibitions
END:VEVENT
BEGIN:VEVENT
DTSTART;VALUE=DATE:20170520
DTEND;VALUE=DATE:20170716
DTSTAMP:20260420T132838
CREATED:20170407T170102Z
LAST-MODIFIED:20170407T170305Z
UID:524-1495238400-1500163199@chrisforsey.com
SUMMARY:RI Exhibition - Horsham Museum
DESCRIPTION:
URL:https://chrisforsey.com/event/ri-exhibition/
LOCATION:Horsham Museum\, Horsham Museum & Art Gallery\, 9 Causeway \, Horsham \, West Sussex \, RH12 1HE\, United Kingdom
CATEGORIES:Exhibitions
END:VEVENT
BEGIN:VEVENT
DTSTART;TZID=UTC:20170415T080000
DTEND;TZID=UTC:20170417T170000
DTSTAMP:20260420T132838
CREATED:20161031T123234Z
LAST-MODIFIED:20161031T123501Z
UID:450-1492243200-1492448400@chrisforsey.com
SUMMARY:RI Annual Exhibition
DESCRIPTION:
URL:https://chrisforsey.com/event/ri-annual-exhibition/
LOCATION:The Mall Galleries\, The Mall\, London\, SW1\, United Kingdom
CATEGORIES:Exhibitions
END:VEVENT
BEGIN:VEVENT
DTSTART;VALUE=DATE:20161101
DTEND;VALUE=DATE:20161115
DTSTAMP:20260420T132838
CREATED:20160419T121032Z
LAST-MODIFIED:20161031T123510Z
UID:425-1477958400-1479167999@chrisforsey.com
SUMMARY:Joint show with Alistair Butt
DESCRIPTION:
URL:https://chrisforsey.com/event/joint-show-alistair-butt/
LOCATION:Lincoln Joyce Fine Art Gallery\, 40 Church Rd\, Great Bookham\, Surrey\, KT23 3PW\, United Kingdom
CATEGORIES:Exhibitions
END:VEVENT
BEGIN:VEVENT
DTSTART;VALUE=DATE:20160602
DTEND;VALUE=DATE:20160626
DTSTAMP:20260420T132838
CREATED:20151204T173016Z
LAST-MODIFIED:20171127T160707Z
UID:319-1464825600-1466899199@chrisforsey.com
SUMMARY:Solo Exhibition -  Biscuit Factory
DESCRIPTION:THE BISCUIT FACTORY\, NEWCASTLE
URL:https://chrisforsey.com/event/solo-exhibition-2/
LOCATION:THE BISCUIT FACTORY\, 16 Stoddart St\, Newcastle Upon Tyne\, NE2 1AN\, United Kingdom
CATEGORIES:Exhibitions
END:VEVENT
BEGIN:VEVENT
DTSTART;VALUE=DATE:20160406
DTEND;VALUE=DATE:20160422
DTSTAMP:20260420T132838
CREATED:20151204T172759Z
LAST-MODIFIED:20171127T162516Z
UID:317-1459900800-1461283199@chrisforsey.com
SUMMARY:ROYAL INSTITUTE of PAINTERS in WATERCOLOURS
DESCRIPTION:ROYAL INSTITUTE of PAINTERS in WATERCOLOURS \nThe Mall Galleries\, The Mall\, London
URL:https://chrisforsey.com/event/royal-institute-of-painters-in-watercolours/
LOCATION:The Mall Galleries\, The Mall\, London\, SW1\, United Kingdom
CATEGORIES:Exhibitions
END:VEVENT
END:VCALENDAR